BEGIN:VCALENDAR
VERSION:2.0
PRODID:-//wp-events-plugin.com//7.2.3.1//EN
BEGIN:VEVENT
UID:11@skuifusan.nl
DTSTART;TZID=Europe/Amsterdam;VALUE=DATE:20250422
DTEND;TZID=Europe/Amsterdam;VALUE=DATE:20250423
DTSTAMP:20241127T183023Z
URL:https://skuifusan.nl/events/laatste-sjoelavond-competitie-2024-2025/
SUMMARY:laatste sjoelavond competitie 2024 -2025
DESCRIPTION:
CATEGORIES:Sjoelen
LOCATION:Café 't Springend Paard\, Dorpsweg 90\, Hensbroek\, Noord-Holland
 \, 1711 RL\, Nederland
X-APPLE-STRUCTURED-LOCATION;VALUE=URI;X-ADDRESS=Dorpsweg 90\, Hensbroek\, N
 oord-Holland\, 1711 RL\, Nederland;X-APPLE-RADIUS=100;X-TITLE=Café 't Spr
 ingend Paard:geo:0,0
END:VEVENT
BEGIN:VTIMEZONE
TZID:Europe/Amsterdam
X-LIC-LOCATION:Europe/Amsterdam
BEGIN:DAYLIGHT
DTSTART:20250330T030000
TZOFFSETFROM:+0100
TZOFFSETTO:+0200
TZNAME:CEST
END:DAYLIGHT
END:VTIMEZONE
END:VCALENDAR